BEGIN:VCALENDAR
VERSION:2.0
PRODID:-//Program Profesi Insinyur ITB - ECPv6.15.18//NONSGML v1.0//EN
CALSCALE:GREGORIAN
METHOD:PUBLISH
X-WR-CALNAME:Program Profesi Insinyur ITB
X-ORIGINAL-URL:https://psppi.itb.ac.id
X-WR-CALDESC:Events for Program Profesi Insinyur ITB
REFRESH-INTERVAL;VALUE=DURATION:PT1H
X-Robots-Tag:noindex
X-PUBLISHED-TTL:PT1H
BEGIN:VTIMEZONE
TZID:UTC
BEGIN:STANDARD
TZOFFSETFROM:+0000
TZOFFSETTO:+0000
TZNAME:UTC
DTSTART:20240101T000000
END:STANDARD
END:VTIMEZONE
BEGIN:VEVENT
DTSTART;VALUE=DATE:20251017
DTEND;VALUE=DATE:20251018
DTSTAMP:20260426T080110
CREATED:20250906T213116Z
LAST-MODIFIED:20250906T213116Z
UID:11394-1760659200-1760745599@psppi.itb.ac.id
SUMMARY:Pengumpulan Otobiografi
DESCRIPTION:Pengumpulan Otobiobrafi ke SI-Penilaian
URL:https://psppi.itb.ac.id/event/pengumpulan-otobiografi/
CATEGORIES:Moda RPL
END:VEVENT
BEGIN:VEVENT
DTSTART;VALUE=DATE:20251003
DTEND;VALUE=DATE:20251004
DTSTAMP:20260426T080110
CREATED:20250906T213028Z
LAST-MODIFIED:20250906T213028Z
UID:11392-1759449600-1759535999@psppi.itb.ac.id
SUMMARY:Pengumpulan Kerangka Portofolio
DESCRIPTION:Pengumpulan Kerangka Portofolio ke SI-Penilaian
URL:https://psppi.itb.ac.id/event/pengumpulan-kerangka-portofolio/
CATEGORIES:Moda RPL
END:VEVENT
BEGIN:VEVENT
DTSTART;TZID=UTC:20251001T083000
DTEND;TZID=UTC:20251001T120000
DTSTAMP:20260426T080110
CREATED:20250906T211343Z
LAST-MODIFIED:20250906T212430Z
UID:11384-1759307400-1759320000@psppi.itb.ac.id
SUMMARY:Kuliah Umum Ke-2 Semester I-2025/2026
DESCRIPTION:Kuliah Umum ke-2 untuk semua mahasiswa moda RPL dan moda reguler.
URL:https://psppi.itb.ac.id/event/kuliah-umum-ke-2-semester-i-2025-2026/
CATEGORIES:Moda Reguler,Moda RPL
END:VEVENT
BEGIN:VEVENT
DTSTART;VALUE=DATE:20250919
DTEND;VALUE=DATE:20250920
DTSTAMP:20260426T080110
CREATED:20250906T212840Z
LAST-MODIFIED:20250906T212840Z
UID:11390-1758240000-1758326399@psppi.itb.ac.id
SUMMARY:Pengumpulan CV
DESCRIPTION:Pengumpulan CV ke SI-Penilaian
URL:https://psppi.itb.ac.id/event/pengumpulan-cv/
CATEGORIES:Moda RPL
END:VEVENT
BEGIN:VEVENT
DTSTART;VALUE=DATE:20250901
DTEND;VALUE=DATE:20251018
DTSTAMP:20260426T080110
CREATED:20250906T214336Z
LAST-MODIFIED:20250906T214336Z
UID:11410-1756684800-1760745599@psppi.itb.ac.id
SUMMARY:Masa Pembelajaran Daring Asinkron
DESCRIPTION:Masa Pembelajaran Daring Asinkron melalui Edunex
URL:https://psppi.itb.ac.id/event/masa-pembelajaran-daring-asinkron/
CATEGORIES:Moda Reguler
END:VEVENT
END:VCALENDAR