BEGIN:VCALENDAR
VERSION:2.0
PRODID:-//Program Profesi Insinyur ITB - ECPv6.15.18//NONSGML v1.0//EN
CALSCALE:GREGORIAN
METHOD:PUBLISH
X-ORIGINAL-URL:https://psppi.itb.ac.id
X-WR-CALDESC:Events for Program Profesi Insinyur ITB
REFRESH-INTERVAL;VALUE=DURATION:PT1H
X-Robots-Tag:noindex
X-PUBLISHED-TTL:PT1H
BEGIN:VTIMEZONE
TZID:Asia/Krasnoyarsk
BEGIN:STANDARD
TZOFFSETFROM:+0700
TZOFFSETTO:+0700
TZNAME:+07
DTSTART:20250101T000000
END:STANDARD
END:VTIMEZONE
BEGIN:VEVENT
DTSTART;VALUE=DATE:20260504
DTEND;VALUE=DATE:20260509
DTSTAMP:20260424T073722
CREATED:20260121T090031Z
LAST-MODIFIED:20260121T091705Z
UID:12470-1777852800-1778284799@psppi.itb.ac.id
SUMMARY:Masa Penjadwalan Sidang/Seminar Moda RPL
DESCRIPTION:Masa penjadwalan sidang/seminar akhir semester Moda RPL di Sub-Prodi\, 4 – 8 Mei 2026.
URL:https://psppi.itb.ac.id/event/masa-penjadwalan-sidang-seminar-moda-rpl/
CATEGORIES:Moda RPL
END:VEVENT
BEGIN:VEVENT
DTSTART;TZID=Asia/Krasnoyarsk:20260506T090000
DTEND;TZID=Asia/Krasnoyarsk:20260506T113000
DTSTAMP:20260424T073722
CREATED:20260121T082325Z
LAST-MODIFIED:20260121T084712Z
UID:12455-1778058000-1778067000@psppi.itb.ac.id
SUMMARY:Kuliah Umum 4 (Hibrid/Bauran)
DESCRIPTION:Kuliah Umum 4 untuk mahasiswa Moda Reguler dan RPL diselenggarakan secara hibrida (bauran). Ruang luring bertempat di Galeri Utama CC Timur Lantai 2\, Kampus Ganesha\, dan tautan Zoom akan diinformasikan menyusul. Peserta luring dibatasi maksimal 75 mahasiswa\, tautan pendaftaran kehadiran luring akan diinformasikan menyusul.
URL:https://psppi.itb.ac.id/event/kuliah-umum-4/
CATEGORIES:Moda Reguler,Moda RPL
END:VEVENT
END:VCALENDAR