BEGIN:VCALENDAR
VERSION:2.0
PRODID:-//Program Profesi Insinyur ITB - ECPv6.15.18//NONSGML v1.0//EN
CALSCALE:GREGORIAN
METHOD:PUBLISH
X-ORIGINAL-URL:https://psppi.itb.ac.id
X-WR-CALDESC:Events for Program Profesi Insinyur ITB
REFRESH-INTERVAL;VALUE=DURATION:PT1H
X-Robots-Tag:noindex
X-PUBLISHED-TTL:PT1H
BEGIN:VTIMEZONE
TZID:UTC
BEGIN:STANDARD
TZOFFSETFROM:+0000
TZOFFSETTO:+0000
TZNAME:UTC
DTSTART:20240101T000000
END:STANDARD
END:VTIMEZONE
BEGIN:VEVENT
DTSTART;VALUE=DATE:20251201
DTEND;VALUE=DATE:20251220
DTSTAMP:20260424T233043
CREATED:20250906T213840Z
LAST-MODIFIED:20250906T213840Z
UID:11402-1764547200-1766188799@psppi.itb.ac.id
SUMMARY:Masa Seminar/Sidang PSPPI
DESCRIPTION:Masa Seminar/Sidang PS PPI moda RPL dan moda Reguler (semester kedua)
URL:https://psppi.itb.ac.id/event/masa-seminar-sidang-psppi/
CATEGORIES:Moda Reguler,Moda RPL
END:VEVENT
END:VCALENDAR